BEGIN:VCALENDAR
VERSION:2.0
PRODID:Reitkurs mit Oliver Kraft
BEGIN:VEVENT
UID:69ebef2760216
DTSTART;VALUE=DATE:20250822
SEQUENCE:0
TRANSP:OPAQUE
DTEND;VALUE=DATE:20250825
LOCATION:Liesfeld 39\,6250 Kundl
X-APPLE-STRUCTURED-LOCATION;VALUE=URI;X-ADDRESS="Liesfeld 39,6250 Kundl";X-
 APPLE-RADIUS=49;X-TITLE=Reitkurs mit Oliver Kraft:geo:47.477248,11.997725
GEO:47.477248;11.997725
SUMMARY:Reitkurs mit Oliver Kraft
CLASS:PUBLIC
DESCRIPTION:Mit Pferden fl&uuml\;stern ist gut ...Voraussetzung ist aber ih
 nen zuzuh&ouml\;ren ... die St&auml\;rken von Pferd und Reiter zu f&ouml\;
 rdern\, und die Schw&auml\;chen zu verbessern\, ohne dabei das Wesen zu ve
 r&auml\;ndern...das ist die Philosophie des 1969 geborene und aus Norddeut
 schland stammende Trainers\, Oliver reitet bereits seit fr&uuml\;hester Ki
 ndheit\, - und wie bei vielen liegen auch seine Anf&auml\;nge in der klass
 ischen Reitweise. Vor &uuml\;ber 27 Jahren hat Oliver auf die Westernreitw
 eise umgesattelt\, und wurde dabei nicht nur durch diverse Ranch Aufenthal
 te in den USA\, sondern vor allem auch durch Trainer wie Mike Bridges\, Jo
 e Walter oder Jeff Sanders gepr&auml\;gt.\nSein Herz hat er den Ranch Disz
 iplinen verschrieben und trainiert auf seiner Anlage Ranch- und Westernpfe
 rde vor allem in Trail\, Cowwork und Ranch Roping. Neben dem Ausbilden von
  Pferden und Reitern\, ist er vor allem in Deutschland auf Kursen\, sowie 
 Shows und Messen unterwegs und als \"mobiler Wrangler\" bei Landwirten mit
  extensiver Rinderhaltung.\nOliver's Schwerpunkte als Trainer liegen dabei
  in der feinen Hilfestellung sowohl im Reiten mit Gebiss\, - als auch im B
 osal/Hackamore. Horsemanship und Verladetraining z&auml\;hlt ebenso zu sei
 nem Repertoire.\nMehr Infos zu Olver Kraft: http://www.wranglers-peak.com/
X-MICROSOFT-CDO-ALLDAYEVENT:TRUE
DTSTAMP:20260424T223103Z
END:VEVENT
END:VCALENDAR